BEGIN:VCALENDAR
VERSION:2.0
PRODID:-//Breathtaking Fundraising - ECPv6.15.18//NONSGML v1.0//EN
CALSCALE:GREGORIAN
METHOD:PUBLISH
X-WR-CALNAME:Breathtaking Fundraising
X-ORIGINAL-URL:https://www.breathtakingnpc.co.za
X-WR-CALDESC:Events for Breathtaking Fundraising
REFRESH-INTERVAL;VALUE=DURATION:PT1H
X-Robots-Tag:noindex
X-PUBLISHED-TTL:PT1H
BEGIN:VTIMEZONE
TZID:Africa/Johannesburg
BEGIN:STANDARD
TZOFFSETFROM:+0200
TZOFFSETTO:+0200
TZNAME:SAST
DTSTART:20240101T000000
END:STANDARD
END:VTIMEZONE
BEGIN:VEVENT
DTSTART;TZID=Africa/Johannesburg:20250531T053000
DTEND;TZID=Africa/Johannesburg:20250531T235900
DTSTAMP:20260419T224602
CREATED:20241213T133625Z
LAST-MODIFIED:20250326T080333Z
UID:1143-1748669400-1748735940@www.breathtakingnpc.co.za
SUMMARY:Breathtaking Gala 2025
DESCRIPTION:We are thrilled to invite you to our annual gala in support of Cystic Fibrosis\, inspired by the incredible theme of The Greatest Showman! \nThis is not just any evening; it’s a breathtaking celebration dedicated to making dreams come true for those living with this life-threatening disease. Together\, we can create a night filled with joy\, hope\, and inspiration\, all while raising vital funds for a cause that truly matters. \nEvery ticket purchased and every rand donated will go directly towards our mission: ensuring that everyone living with Cystic Fibrosis has access to effective treatments that can prevent lung transplants\, reduce premature death\, and ultimately provide a better quality of life and easier breathing. \nJoin us for an unforgettable night of entertainment\, connection\, networking\, and compassion. Let’s come together to support those who need it most and make a real difference in their lives. \nMark your calendars\, gather your friends\, and let’s make this gala a night to remember! We can’t wait to see you there! \nThank you for your support!
URL:https://www.breathtakingnpc.co.za/event/breathtaking-gala-2025/
CATEGORIES:Fundraiser Events
ATTACH;FMTTYPE=image/jpeg:https://www.breathtakingnpc.co.za/wp-content/uploads/2024/11/8P3A2299-scaled.jpg
ORGANIZER;CN="Breathtaking Fundraising NPC":MAILTO:events@breathtakingnpc.co.za
END:VEVENT
BEGIN:VEVENT
DTSTART;VALUE=DATE:20250328
DTEND;VALUE=DATE:20250329
DTSTAMP:20260419T224602
CREATED:20241213T120318Z
LAST-MODIFIED:20241213T123306Z
UID:1124-1743120000-1743206399@www.breathtakingnpc.co.za
SUMMARY:TRX & Pachas Golf Day 2025
DESCRIPTION:Prizes and sponsorships welcome. Proceeds will be donated to Breathtaking Fundraising NPC. \nEarly bird bookings welcome.\nR8 000 PER FOURBALL\nR10 000 PER HOLE SPONSOR\nR15 000 FOR BOTH \nFor bookings contact Sobet Diemont: Sobet977@gmail.com
URL:https://www.breathtakingnpc.co.za/event/trx-pachas-golf-day-2025/
LOCATION:Wingate Park Country Club\, Pretoria\, Gauteng\, South Africa
CATEGORIES:Fundraiser Events
ATTACH;FMTTYPE=image/png:https://www.breathtakingnpc.co.za/wp-content/uploads/2024/12/Screenshot-2024-12-13-at-14.04.41.png
ORGANIZER;CN="Sobet Diemont":MAILTO:sobet977@gmail.com
END:VEVENT
END:VCALENDAR