BEGIN:VCALENDAR
VERSION:2.0
PRODID:-//Breathtaking Fundraising - ECPv6.15.18//NONSGML v1.0//EN
CALSCALE:GREGORIAN
METHOD:PUBLISH
X-WR-CALNAME:Breathtaking Fundraising
X-ORIGINAL-URL:https://www.breathtakingnpc.co.za
X-WR-CALDESC:Events for Breathtaking Fundraising
REFRESH-INTERVAL;VALUE=DURATION:PT1H
X-Robots-Tag:noindex
X-PUBLISHED-TTL:PT1H
BEGIN:VTIMEZONE
TZID:Africa/Johannesburg
BEGIN:STANDARD
TZOFFSETFROM:+0200
TZOFFSETTO:+0200
TZNAME:SAST
DTSTART:20240101T000000
END:STANDARD
END:VTIMEZONE
BEGIN:VEVENT
DTSTART;VALUE=DATE:20251031
DTEND;VALUE=DATE:20251102
DTSTAMP:20260419T161619
CREATED:20251001T085624Z
LAST-MODIFIED:20251001T085624Z
UID:1802-1761868800-1762041599@www.breathtakingnpc.co.za
SUMMARY:Cheetah Girls @ Winelands 10's
DESCRIPTION:The Cheetah Girls Netball Team is stepping onto the court at the Winelands 10s tournament this November (2025)— not just to compete\, but to make a difference. Together with Breathtaking NPC and Dare4Life\, they are raising funds to provide portable oxygen machines for patients with Cystic Fibrosis (CF). \nTheir goal: Raise R30\,000 to support CF warriors like Sarah\, giving them the freedom to stay active and live fuller lives. \nHow You Can Get Involved\n✨ Book TicketsCome and cheer for the Cheetah Girls at the Winelands 10s and be part of the action.👉 Book Tickets Here \n💙 Donate to the CauseEvery contribution brings us closer to life-changing support for CF patients.👉 Donate Now \n👕 Buy a Supporter T-ShirtWear your support proudly with an exclusive Cheetah Girls supporter t-shirt.👉 Get Your Shirt \nWhy It Matters\nPortable oxygen machines aren’t just equipment — they’re independence\, mobility\, and hope. Your support will directly transform lives and empower patients with Cystic Fibrosis to keep fighting. \nLet’s rally behind the Cheetah Girls as they play for more than victory on the court. Together\, we can make a difference!
URL:https://www.breathtakingnpc.co.za/event/cheetah-girls-winelands-10s/
LOCATION:Boland Landbouskool\, Paarl
ATTACH;FMTTYPE=image/jpeg:https://www.breathtakingnpc.co.za/wp-content/uploads/2025/10/WhatsApp-Image-2025-10-01-at-10.32.46.jpeg
ORGANIZER;CN="Breathtaking Fundraising NPC":MAILTO:events@breathtakingnpc.co.za
END:VEVENT
END:VCALENDAR