BEGIN:VCALENDAR
VERSION:2.0
PRODID:-//Breathtaking Fundraising - ECPv6.15.18//NONSGML v1.0//EN
CALSCALE:GREGORIAN
METHOD:PUBLISH
X-WR-CALNAME:Breathtaking Fundraising
X-ORIGINAL-URL:https://www.breathtakingnpc.co.za
X-WR-CALDESC:Events for Breathtaking Fundraising
REFRESH-INTERVAL;VALUE=DURATION:PT1H
X-Robots-Tag:noindex
X-PUBLISHED-TTL:PT1H
BEGIN:VTIMEZONE
TZID:Africa/Johannesburg
BEGIN:STANDARD
TZOFFSETFROM:+0200
TZOFFSETTO:+0200
TZNAME:SAST
DTSTART:20240101T000000
END:STANDARD
END:VTIMEZONE
BEGIN:VEVENT
DTSTART;VALUE=DATE:20251023
DTEND;VALUE=DATE:20251024
DTSTAMP:20260419T174640
CREATED:20251001T081919Z
LAST-MODIFIED:20251001T082941Z
UID:1795-1761177600-1761263999@www.breathtakingnpc.co.za
SUMMARY:YSTERS PRESENTS CHARITY GOLF DAY FOR LIHAN
DESCRIPTION:Join us for an unforgettable day on the fairways to raise funds for Lihan. Think\, live golf… but bigger\, louder\, and all for a great cause.\nRead Lihan’s story HERE. \nEvent Snapshot\n\n\nDate: 23 October \n\n\nVenue: Krugersdorp Golf Club \n\n\nHost: YSTERS in partnership with Sneller On Point \n\n\nFormat: 4-Ball \n\n\nWhat’s Included\nEvery registered golfer receives: \n\n\nSneller golf shirt \n\n\nCap \n\n\nGolf cart \n\n\nHalfway meal \n\n\nDinner after the round \n\n\nPricing & Sponsorship\n\n\n4-Ball Entry: R5\,500 \n\n\nHole Sponsorship: R2\,500 (branding on a tee/green; great visibility) \n\n\nLimited spots available. First come\, first served.
URL:https://www.breathtakingnpc.co.za/event/ysters-presents-charity-golf-day-for-lihan/
LOCATION:Krugersdorp Golf Club
CATEGORIES:Fundraiser Events
ATTACH;FMTTYPE=image/jpeg:https://www.breathtakingnpc.co.za/wp-content/uploads/2025/10/WhatsApp-Image-2025-09-30-at-21.27.05-1.jpeg
END:VEVENT
END:VCALENDAR